BEGIN:VCALENDAR
VERSION:2.0
PRODID:-//hacksw/handcal//NONSGML v1.0//EN
CALSCALE:GREGORIAN
BEGIN:VEVENT
DTEND:20160927T023000Z
UID:69eb10b58d44c
DTSTAMP:20260424T064157Z
SUMMARY:Haydn to Reger
DESCRIPTION:https://franklymusic.org/event/haydn-to-reger/
LOCATION:St. Paul’s Episcopal Church, 914 E. Knapp St., Milwaukee, WI 53202
URL;VALUE=URI:https://franklymusic.org/event/haydn-to-reger/
DTSTART:20160927T000000Z
END:VEVENT
END:VCALENDAR
