BEGIN:VCALENDAR
VERSION:2.0
PRODID:-//hacksw/handcal//NONSGML v1.0//EN
CALSCALE:GREGORIAN
BEGIN:VEVENT
DTEND:20161122T033000Z
UID:69eb10d4ecbb3
DTSTAMP:20260424T064228Z
SUMMARY:Guitar Center
DESCRIPTION:https://franklymusic.org/event/guitar-center/
LOCATION:St. Paul’s Episcopal Church, 914 E. Knapp St., Milwaukee, WI 53202
URL;VALUE=URI:https://franklymusic.org/event/guitar-center/
DTSTART:20161122T010000Z
END:VEVENT
END:VCALENDAR
