BEGIN:VCALENDAR
VERSION:2.0
PRODID:-//hacksw/handcal//NONSGML v1.0//EN
CALSCALE:GREGORIAN
BEGIN:VEVENT
DTEND:20170124T033000Z
UID:69e697521a312
DTSTAMP:20260420T211458Z
SUMMARY:Winds and Strings
DESCRIPTION:https://franklymusic.org/event/winds-and-strings/
LOCATION:Schwan Concert Hall, Wisconsin Lutheran College, 8815 W. Wisconsin Avenue, Wauwatosa, WI 53226
URL;VALUE=URI:https://franklymusic.org/event/winds-and-strings/
DTSTART:20170124T010000Z
END:VEVENT
END:VCALENDAR
