BEGIN:VCALENDAR
VERSION:2.0
PRODID:-//hacksw/handcal//NONSGML v1.0//EN
CALSCALE:GREGORIAN
BEGIN:VEVENT
DTEND:20170926T020000Z
UID:69e65ce8f043c
DTSTAMP:20260420T170544Z
SUMMARY:The World of César Franck
DESCRIPTION:https://franklymusic.org/event/the-world-of-cesar-frank/
LOCATION:St. Paul’s Episcopal Church, 914 E. Knapp St., Milwaukee, WI 53202
URL;VALUE=URI:https://franklymusic.org/event/the-world-of-cesar-frank/
DTSTART:20170926T000000Z
END:VEVENT
END:VCALENDAR
