BEGIN:VCALENDAR
VERSION:2.0
PRODID:-//hacksw/handcal//NONSGML v1.0//EN
CALSCALE:GREGORIAN
BEGIN:VEVENT
DTEND:20171128T030000Z
UID:69e53ec44f05c
DTSTAMP:20260419T204452Z
SUMMARY:Movie Night
DESCRIPTION:https://franklymusic.org/event/movie-night/
LOCATION:St. Paul’s Episcopal Church, 914 E. Knapp St., Milwaukee, WI 53202
URL;VALUE=URI:https://franklymusic.org/event/movie-night/
DTSTART:20171128T010000Z
END:VEVENT
END:VCALENDAR
