BEGIN:VCALENDAR
VERSION:2.0
PRODID:-//hacksw/handcal//NONSGML v1.0//EN
CALSCALE:GREGORIAN
BEGIN:VEVENT
DTEND:20180925T020000Z
UID:69e85c1de4092
DTSTAMP:20260422T052653Z
SUMMARY:Season Opener
DESCRIPTION:https://franklymusic.org/event/season-opener/
LOCATION:St. Paul’s Episcopal Church, 914 E. Knapp St., Milwaukee, WI 53202
URL;VALUE=URI:https://franklymusic.org/event/season-opener/
DTSTART:20180925T000000Z
END:VEVENT
END:VCALENDAR
