BEGIN:VCALENDAR
VERSION:2.0
PRODID:-//hacksw/handcal//NONSGML v1.0//EN
CALSCALE:GREGORIAN
BEGIN:VEVENT
DTEND:20190409T020000Z
UID:69eb5049e1368
DTSTAMP:20260424T111313Z
SUMMARY:Brooklyn Rider
DESCRIPTION:https://franklymusic.org/event/brooklyn-rider/
LOCATION:St. Paul’s Episcopal Church, 914 E. Knapp St., Milwaukee, WI 53202
URL;VALUE=URI:https://franklymusic.org/event/brooklyn-rider/
DTSTART:20190409T000000Z
END:VEVENT
END:VCALENDAR
