BEGIN:VCALENDAR
VERSION:2.0
PRODID:-//hacksw/handcal//NONSGML v1.0//EN
CALSCALE:GREGORIAN
BEGIN:VEVENT
DTEND:20190130T030000Z
UID:69e8179ae98c5
DTSTAMP:20260422T003434Z
SUMMARY:Robert and Clara
DESCRIPTION:https://franklymusic.org/event/robert-and-clara/
LOCATION:Schwan Concert Hall, Wisconsin Lutheran College, 8815 W. Wisconsin Avenue, Wauwatosa, WI 53226
URL;VALUE=URI:https://franklymusic.org/event/robert-and-clara/
DTSTART:20190130T010000Z
END:VEVENT
END:VCALENDAR
