BEGIN:VCALENDAR
VERSION:2.0
PRODID:-//hacksw/handcal//NONSGML v1.0//EN
CALSCALE:GREGORIAN
BEGIN:VEVENT
DTEND:20190319T020000Z
UID:69e778488d056
DTSTAMP:20260421T131448Z
SUMMARY:The Art of the Cello
DESCRIPTION:https://franklymusic.org/event/the-art-of-the-cello/
LOCATION:Schwan Concert Hall, Wisconsin Lutheran College, 8815 W. Wisconsin Avenue, Wauwatosa, WI 53226
URL;VALUE=URI:https://franklymusic.org/event/the-art-of-the-cello/
DTSTART:20190319T000000Z
END:VEVENT
END:VCALENDAR
