BEGIN:VCALENDAR
VERSION:2.0
PRODID:-//hacksw/handcal//NONSGML v1.0//EN
CALSCALE:GREGORIAN
BEGIN:VEVENT
DTEND:20190924T023000Z
UID:69e53e67090f8
DTSTAMP:20260419T204319Z
SUMMARY:Season Opener
DESCRIPTION:https://franklymusic.org/event/season-opener-2019/
LOCATION:St. Paul’s Episcopal Church, 914 E. Knapp St., Milwaukee, WI 53202
URL;VALUE=URI:https://franklymusic.org/event/season-opener-2019/
DTSTART:20190924T000000Z
END:VEVENT
END:VCALENDAR
