BEGIN:VCALENDAR
VERSION:2.0
PRODID:-//hacksw/handcal//NONSGML v1.0//EN
CALSCALE:GREGORIAN
BEGIN:VEVENT
DTEND:20240918T020000Z
UID:69e8eda19e951
DTSTAMP:20260422T154745Z
SUMMARY:Frank Almond and the Frankly Music Chamber Orchestra
DESCRIPTION:https://franklymusic.org/event/frank-almond-and-the-frankly-music-chamber-orchestra/
LOCATION:Milwaukee Youth Arts Center, 325 W. Walnut Street, Milwaukee, WI 53212
URL;VALUE=URI:https://franklymusic.org/event/frank-almond-and-the-frankly-music-chamber-orchestra/
DTSTART:20240918T000000Z
END:VEVENT
END:VCALENDAR
