BEGIN:VCALENDAR
VERSION:2.0
PRODID:-//hacksw/handcal//NONSGML v1.0//EN
CALSCALE:GREGORIAN
BEGIN:VEVENT
DTEND:20250929T020000Z
UID:69e6064c86433
DTSTAMP:20260420T105612Z
SUMMARY:Voices Unforgotten
DESCRIPTION:https://franklymusic.org/event/voices-unforgotten/
LOCATION:Milwaukee Youth Arts Center, 325 W. Walnut Street, Milwaukee, WI 53212
URL;VALUE=URI:https://franklymusic.org/event/voices-unforgotten/
DTSTART:20250929T000000Z
END:VEVENT
END:VCALENDAR
