BEGIN:VCALENDAR
VERSION:2.0
PRODID:-//hacksw/handcal//NONSGML v1.0//EN
CALSCALE:GREGORIAN
BEGIN:VEVENT
DTEND:20260317T020000Z
UID:69e89f89bd1e3
DTSTAMP:20260422T101433Z
SUMMARY:Music of Bernstein\, Bloch\, and Olivier Messiaen
DESCRIPTION:https://franklymusic.org/event/music-of-bernstein-henri-dutilleux-and-olivier-messiaen/
LOCATION:Schwan Concert Hall, Wisconsin Lutheran College, 8815 W. Wisconsin Avenue, Wauwatosa, WI 53226
URL;VALUE=URI:https://franklymusic.org/event/music-of-bernstein-henri-dutilleux-and-olivier-messiaen/
DTSTART:20260317T000000Z
END:VEVENT
END:VCALENDAR
